BEGIN:VCALENDAR
VERSION:2.0
PRODID:-//Council of Churches in Zambia - ECPv6.15.20//NONSGML v1.0//EN
CALSCALE:GREGORIAN
METHOD:PUBLISH
X-WR-CALNAME:Council of Churches in Zambia
X-ORIGINAL-URL:https://ccz.org.zm
X-WR-CALDESC:Events for Council of Churches in Zambia
REFRESH-INTERVAL;VALUE=DURATION:PT1H
X-Robots-Tag:noindex
X-PUBLISHED-TTL:PT1H
BEGIN:VTIMEZONE
TZID:Africa/Lusaka
BEGIN:STANDARD
TZOFFSETFROM:+0200
TZOFFSETTO:+0200
TZNAME:CAT
DTSTART:20220101T000000
END:STANDARD
END:VTIMEZONE
BEGIN:VEVENT
DTSTART;TZID=Africa/Lusaka:20230308T080000
DTEND;TZID=Africa/Lusaka:20230308T170000
DTSTAMP:20260424T140823
CREATED:20230102T081650Z
LAST-MODIFIED:20230222T094413Z
UID:81-1678262400-1678294800@ccz.org.zm
SUMMARY:Women's Day
DESCRIPTION:Every year the Council of Churches in Zambia and its partners commemorate women’s day\, to appreiciate and celebrate every woman worldwide. \nFollow us on Facebook for more updates on this event.
URL:https://ccz.org.zm/index.php/event/womens-day/
LOCATION:Lusaka
CATEGORIES:Commemorations
ATTACH;FMTTYPE=image/png:https://ccz.org.zm/wp-content/uploads/2017/08/womens-day.png
ORGANIZER;CN="Council of Churches in Zambia":MAILTO:info@ccz.org.zm
END:VEVENT
END:VCALENDAR